BEGIN:VCALENDAR
VERSION:2.0
PRODID:-//ChamberMaster//Event Calendar 2.0//EN
METHOD:PUBLISH
X-PUBLISHED-TTL:P3D
REFRESH-INTERVAL:P3D
CALSCALE:GREGORIAN
BEGIN:VEVENT
DTSTART:20191117T150000Z
DTEND:20191117T170000Z
X-MICROSOFT-CDO-ALLDAYEVENT:FALSE
SUMMARY:MUVE Volunteer Workday
DESCRIPTION:Join Frost Science as we work on several citizen science activities at the East Greynolds Park restoration site including:\n\n\n	Invasive Plant Documentation and Removal: Invasive plants will be removed from the site to make way for native vegetation.\n	Marine Debris Cleanup: Volunteers collect trash from the beach and log each item using Marine Debris Tracker and Clean Swell\, free smartphone and tablet apps.\n	Biodiversity Monitoring: Volunteers observe newly planted trees throughout our restoration site as well as observing native wildlife. Observations may be logged with iNaturalist   another smartphone app.\n	Native Vegetation Planting: Volunteers plant trees and grasses to enhance native habitats.\n\n\nTaking place once a month\, MUVE Volunteer Workdays are excellent opportunities to make an immediate impact on the environment by investing your time in one of our several restoration projects. Volunteers must only commit to a single workday at a time but can choose to do so regularly.\n\n\n\n\n\n\nParking Instructions\n\n\n	Park in East Greynolds parking lot.\n	 DO NOT PAY TO PARK! Check in with MUVE staff to receive a parking pass during the event.Join Frost Science as we work on several citizen science activities at the East Greynolds Park restoration site including:
X-ALT-DESC;FMTTYPE=text/html:<div style="margin-left:-12px\; margin-right:-12px">\n<div style="margin-left:0px\; margin-right:auto">\n<div>\n<p>Join Frost Science as we work on several citizen science activities at the East Greynolds Park restoration site including:</p>\n\n<ul>\n	<li><strong>Invasive Plant Documentation and Removal:&nbsp\;</strong>Invasive plants will be removed from the site to make way for native vegetation.</li>\n	<li><strong>Marine Debris Cleanup:&nbsp\;</strong>Volunteers collect trash from the beach and log each item using Marine Debris Tracker and Clean Swell\, free smartphone and tablet apps.</li>\n	<li><strong>Biodiversity Monitoring:&nbsp\;</strong>Volunteers observe newly planted trees throughout our restoration site as well as observing native wildlife. Observations may be logged with iNaturalist &ndash\; another smartphone app.</li>\n	<li><strong>Native Vegetation Planting:&nbsp\;</strong>Volunteers plant trees and grasses to enhance native habitats.</li>\n</ul>\n\n<p>Taking place once a month\, MUVE Volunteer Workdays are excellent opportunities to make an immediate impact on the environment by investing your time in one of our several restoration projects. Volunteers must only commit to a single workday at a time but can choose to do so regularly.</p>\n</div>\n</div>\n</div>\n\n<h2><br />\nParking Instructions</h2>\n\n<ul>\n	<li>Park in East Greynolds parking lot.</li>\n	<li>&nbsp\;DO NOT PAY TO PARK! Check in with MUVE staff to receive a parking pass during the event.Join Frost Science as we work on several citizen science activities at the East Greynolds Park restoration site including:<br />\n	<br />\n	&nbsp\;</li>\n</ul>\n
LOCATION:East Greynolds Park 16700 Biscayne Blvd North Miami Beach\, FL 33160
UID:e.1580.20369
SEQUENCE:3
DTSTAMP:20260425T115751Z
URL:https://business.mdglcc.com/events/details/muve-volunteer-workday-11-17-2019-20369
END:VEVENT

END:VCALENDAR
