BEGIN:VCALENDAR
VERSION:2.0
PRODID:-//ChamberMaster//Event Calendar 2.0//EN
METHOD:PUBLISH
X-PUBLISHED-TTL:P3D
REFRESH-INTERVAL:P3D
CALSCALE:GREGORIAN
BEGIN:VEVENT
DTSTART:20200110T013000Z
DTEND:20200110T040000Z
X-MICROSOFT-CDO-ALLDAYEVENT:FALSE
SUMMARY:National YoungArts Week 2020 - Classical Music Concert
DESCRIPTION:Experience the most accomplished young classical musicians age 15-18 from around the country live during National YoungArts Week.
X-ALT-DESC;FMTTYPE=text/html:Experience the most accomplished young classical musicians age 15-18 from around the country live during National YoungArts Week.&nbsp\;
LOCATION:New World Center
UID:e.1580.20436
SEQUENCE:3
DTSTAMP:20260425T101640Z
URL:https://business.mdglcc.com/events/details/national-youngarts-week-2020-classical-music-concert-20436
END:VEVENT

END:VCALENDAR
