BEGIN:VCALENDAR
VERSION:2.0
PRODID:-//ChamberMaster//Event Calendar 2.0//EN
METHOD:PUBLISH
X-PUBLISHED-TTL:P3D
REFRESH-INTERVAL:P3D
CALSCALE:GREGORIAN
BEGIN:VEVENT
DTSTART:20190601T030000Z
DTEND:20190601T080000Z
X-MICROSOFT-CDO-ALLDAYEVENT:FALSE
SUMMARY:NOCTURNE Late Night Dance Party
DESCRIPTION:Nocturne features live DJ sets and musical acts by local artists set to heart-pounding\n\nbeats and striking vocals.\n\nPerformances will bur the lines between audience and artist with an impressive lineup of burlesque dancers\, aerialists\, acrobats\, musicians and more\, all of whom will join together to create a unique experience that's part cirque nouveau\, part dance rave and part Miami Beach nightclub.\n\n \n\nEvil Twins | Friday\, May 31\n\nThere will be two sides to every face at the third installation of Nocturne.\n\nOn May 31\, the Evil Twins theme will bring an evening filled with two spirits of every being that live in duality\, together\, within one true self.\n\n\n\nGuests are encouraged to bring their Jekyll & Hyde\, their ying and yang\, their black & white swan\, dressing as their "evil twin" or sharing duality-inspired costumes with friends.
X-ALT-DESC;FMTTYPE=text/html:<p style="text-align:center"><span style="font-size:16px"><strong>Nocturne</strong></span> features live DJ sets and musical acts by local artists set to heart-pounding<br />\nbeats and striking vocals.</p>\n\n<p style="text-align:center">Performances will bur the lines between audience and artist with an impressive lineup of burlesque dancers\, aerialists\, acrobats\, musicians and more\, all of whom will join together to create a unique experience that&#39\;s part cirque nouveau\, part dance rave and part Miami Beach nightclub.<br />\n&nbsp\;</p>\n\n<h2 style="text-align:center"><strong>Evil Twins | Friday\, May 31</strong></h2>\n\n<p style="text-align:center">There will be two sides to every face at the third installation of Nocturne.</p>\n\n<p style="text-align:center">On May 31\, the Evil Twins theme will bring an evening filled with two spirits of every being that live in duality\, together\, within one true self.<br />\n<br />\nGuests are encouraged to bring their Jekyll &amp\; Hyde\, their ying and yang\, their black &amp\; white swan\, dressing as their &ldquo\;evil twin&rdquo\; or sharing duality-inspired costumes with friends.</p>\n
LOCATION:FAENA THEATETR 3201 COLLINS AVE MIAMI BEACH\, FL 33140
UID:e.1580.18993
SEQUENCE:3
DTSTAMP:20260425T220428Z
URL:https://business.mdglcc.com/events/details/nocturne-late-night-dance-party-18993
END:VEVENT

END:VCALENDAR
