BEGIN:VCALENDAR
VERSION:2.0
PRODID:-//ChamberMaster//Event Calendar 2.0//EN
METHOD:PUBLISH
X-PUBLISHED-TTL:P3D
REFRESH-INTERVAL:P3D
CALSCALE:GREGORIAN
BEGIN:VEVENT
DTSTART:20190714T030000Z
DTEND:20190714T080000Z
X-MICROSOFT-CDO-ALLDAYEVENT:FALSE
SUMMARY:NOCTURNE Late Night Performance Art Dance Party
DESCRIPTION:Nocturne features live DJ sets and musical acts by local artists set to heart-pounding\n\nbeats and striking vocals.\n\nPerformances will bur the lines between audience and artist with an impressive lineup of burlesque dancers\, aerialists\, acrobats\, musicians and more\, all of whom will join together to create a unique experience that's part cirque nouveau\, part dance rave and part Miami Beach nightclub.\n\nFRENCH KISS \n\nJULY 13 \n\nLet the bubbly flow\, Faena Theater invites you to French Kiss on July 13\, an after-hours performance-driven fete colored by aristocratic pomp and whimsy that would make even Marie Antoinette jealous.\n\n\n\nProvocative tracks will be spun by DJ Dude Skywalker\, revelers will find themselves spinning among a flirtatious court of burlesque performers dressed in haute couture and swinging from cyr wheels\, whirling fire and twisting into unbelievable poses. Lose yourself in a riot of revealing frocks\, rococo frills\, ruffles and lace\, while seductive vignettes unfold under spotlights and amidst the crowd\, taking the evening on unexpected twists and turns.
X-ALT-DESC;FMTTYPE=text/html:<p style="text-align:center"><span style="font-size:16px"><strong>Nocturne</strong></span> features live DJ sets and musical acts by local artists set to heart-pounding<br />\nbeats and striking vocals.</p>\n\n<p style="text-align:center">Performances will bur the lines between audience and artist with an impressive lineup of burlesque dancers\, aerialists\, acrobats\, musicians and more\, all of whom will join together to create a unique experience that&#39\;s part cirque nouveau\, part dance rave and part Miami Beach nightclub.</p>\n\n<p style="text-align:center"><strong>FRENCH KISS </strong></p>\n\n<p style="text-align:center"><strong>JULY 13 </strong></p>\n\n<p>Let the bubbly flow\, Faena Theater invites you to French Kiss on July 13\, an after-hours performance-driven fete colored by aristocratic pomp and whimsy that would make even Marie Antoinette jealous.<br />\n<br />\nProvocative tracks will be spun by <strong>DJ Dude Skywalker\,</strong> revelers will find themselves spinning among a flirtatious court of burlesque performers dressed in haute couture and swinging from cyr wheels\, whirling fire and twisting into unbelievable poses. Lose yourself in a riot of revealing frocks\, rococo frills\, ruffles and lace\, while seductive vignettes unfold under spotlights and amidst the crowd\, taking the evening on unexpected twists and turns.</p>\n
LOCATION:FAENA THEATETR 3201 COLLINS AVE MIAMI BEACH\, FL 33140
UID:e.1580.19385
SEQUENCE:3
DTSTAMP:20260425T204052Z
URL:https://business.mdglcc.com/events/details/nocturne-late-night-performance-art-dance-party-19385
END:VEVENT

END:VCALENDAR
