BEGIN:VCALENDAR
VERSION:2.0
PRODID:-//ChamberMaster//Event Calendar 2.0//EN
METHOD:PUBLISH
X-PUBLISHED-TTL:P3D
REFRESH-INTERVAL:P3D
CALSCALE:GREGORIAN
BEGIN:VEVENT
DTSTART:20190925T220000Z
DTEND:20190926T010000Z
X-MICROSOFT-CDO-ALLDAYEVENT:FALSE
SUMMARY:Overtime at The Bass
DESCRIPTION:Hydra's Rain\, a multisensory and participatory meditation guided by artist Hayden Dunham\, where the audience will be bathed in sound within the museum. At 7  PM\, Naomi Fisher\, artist and director of BFI\, and Katherine Fleming\, founder of Bridge Initiative\, will host a conversation on the ecologically-focused collaboration between artists Hayden Dunham and Katerina Llanes\, discussing their upcoming exhibition with BFI\, IN: the serpent :TO (Hydra's Rain)\, opening September 28. The talk will take place in the Department of Reflection\, a parafictional municipal office established in the adjacent Collins Park Rotunda. Cocktail reception at The Bass to follow the talk\, featuring environmental atmosphere designed by Dunham and Llanes.\n\nPlus\, FREE welcome drink per guest (21+) with drinks and small bites available for purchase from The Cafe by Thierry Isambert.
X-ALT-DESC;FMTTYPE=text/html:<p style="margin-left:0px\; margin-right:0px\; text-align:left"><em>Hydra&rsquo\;s Rain</em>\, a multisensory and participatory meditation guided by artist Hayden Dunham\, where the audience will be bathed in sound within the museum. At 7 &nbsp\;PM\,&nbsp\;Naomi Fisher\, artist and director of BFI\, and Katherine Fleming\, founder of Bridge Initiative\, will host a conversation on the ecologically-focused collaboration between artists Hayden Dunham and Katerina Llanes\, discussing their upcoming exhibition with BFI\, <em>IN: the serpent :TO (Hydra&rsquo\;s Rain)\,&nbsp\;</em>opening September 28. The talk will take place in the&nbsp\;Department of Reflection\, a parafictional municipal office established in the adjacent Collins Park Rotunda. Cocktail reception at The Bass to follow the talk\, featuring environmental atmosphere designed by Dunham and Llanes.</p>\n\n<p style="margin-left:0px\; margin-right:0px\; text-align:left">Plus\, FREE welcome drink per guest (21+) with drinks and small bites available for purchase from The Cafe by Thierry Isambert.</p>\n
LOCATION:The Bass 2100 Collins Ave Miami Beach\, FL 33139
UID:e.1580.19634
SEQUENCE:3
DTSTAMP:20260425T153859Z
URL:https://business.mdglcc.com/events/details/overtime-at-the-bass-09-25-2019-19634
END:VEVENT

END:VCALENDAR
