BEGIN:VCALENDAR
VERSION:2.0
PRODID:-//ChamberMaster//Event Calendar 2.0//EN
METHOD:PUBLISH
X-PUBLISHED-TTL:P3D
REFRESH-INTERVAL:P3D
CALSCALE:GREGORIAN
BEGIN:VEVENT
DTSTART;VALUE=DATE:20190209
DTEND;VALUE=DATE:20190210
TRANSP:TRANSPARENT
X-MICROSOFT-CDO-ALLDAYEVENT:TRUE
SUMMARY:SAGE & Friends/Miami
DESCRIPTION:On Saturday\, February 9\, SAGE returns to the Betsy Hotel! Join fellow SAGE supporters in celebrating our LGBT trailblazers and honoring community pioneers\, Raquel Matas and Carla Lupi.
X-ALT-DESC;FMTTYPE=text/html:<span style="color:rgb(0\, 0\, 0)\; font-family:times new roman\,serif\; font-size:16px">On Saturday\, February 9\, SAGE returns to the Betsy Hotel! Join fellow SAGE supporters in celebrating our LGBT trailblazers and honoring community pioneers\, Raquel Matas and Carla Lupi.&nbsp\;</span>
LOCATION:The Betsy Hotel\, 1440 Ocean Dr.\, Miami Beach\, FL 33139
UID:e.1580.17880
SEQUENCE:3
DTSTAMP:20260426T042606Z
URL:https://business.mdglcc.com/events/details/sage-friends-miami-02-09-2019-17880
END:VEVENT

END:VCALENDAR
