BEGIN:VCALENDAR
VERSION:2.0
PRODID:-//ChamberMaster//Event Calendar 2.0//EN
METHOD:PUBLISH
X-PUBLISHED-TTL:P3D
REFRESH-INTERVAL:P3D
CALSCALE:GREGORIAN
BEGIN:VEVENT
DTSTART:20190913T010000Z
DTEND:20190913T023000Z
X-MICROSOFT-CDO-ALLDAYEVENT:FALSE
SUMMARY:SAMSARA CABARET- FINAL WEEKS
DESCRIPTION:Catch our original production before the final curtain falls on September 14th with 10% off for chamber memebers!\n\nInspired by the Sanskrit word "samsara" referencing rebirth\, karmic reincarnation and life's constant change\, Samsara Cabaret fuses stunning visuals\, contemporary dance\, cirque nouveau\, live music\, state-of-the-art technology and more to create an exhilarating theater experience unlike any other.\n\n\n\nPerfect for groups of every size from 10 to 150\, Faena Theater offers world-class entertainment in an intimate\, glamorous space. Join us for your next corporate event\,staff outing\, client entertainment or to simply enjoy a night out with friends. Contact Daniella for details and discounted rates!!.
X-ALT-DESC;FMTTYPE=text/html:<div><strong>Catch our original production before the final curtain falls on September 14th with 10% off for chamber memebers!</strong><br />\nInspired by the Sanskrit word &quot\;samsara&quot\; referencing rebirth\, karmic reincarnation and life&#39\;s constant change\,&nbsp\;Samsara Cabaret fuses&nbsp\;stunning visuals\, contemporary dance\, cirque nouveau\, live music\, state-of-the-art technology&nbsp\;and more to create an exhilarating theater experience unlike any other.<br />\n<br />\nPerfect for groups of every size from 10 to 150\, Faena Theater offers world-class entertainment in an intimate\, glamorous space. Join us for your next corporate event\,staff outing\, client entertainment or to simply enjoy a night out with friends. Contact Daniella for details and discounted rates!!.</div>\n
LOCATION:FAENA THEATER 3201 COLLINS AVE MIAMI BEACH\, FL 33140
UID:e.1580.19473
SEQUENCE:3
DTSTAMP:20260425T153657Z
URL:https://business.mdglcc.com/events/details/samsara-cabaret-final-weeks-09-12-2019-19473
END:VEVENT

END:VCALENDAR
