BEGIN:VCALENDAR
VERSION:2.0
PRODID:-//ChamberMaster//Event Calendar 2.0//EN
METHOD:PUBLISH
X-PUBLISHED-TTL:P3D
REFRESH-INTERVAL:P3D
CALSCALE:GREGORIAN
BEGIN:VEVENT
DTSTART:20190703T140000Z
DTEND:20190901T220000Z
X-MICROSOFT-CDO-ALLDAYEVENT:FALSE
SUMMARY:Savage Ancient Seas
DESCRIPTION:Come face to face with prehistoric sea monsters!\n\nThey've traveled 75 million years. Fourty-five feet long. Teeth like daggers. And they've come for you. See giant dinosaurs of the deep\, up close and in person. Touch fossils\, and experience the ocean as it was 75 million years ago.The Savage Ancient Seas a traveling exhibition only at Miami Seaquarium!\n\n\n\nBuy Now and Save $8!\n\n\n\nAdults: $39.99* | Children (3-9 yrs.): $29.99*\n\n\n\nYour ticket includes: \n\n  General admission to the park \n\n  All shows and presentations \n\n\n\nTicket Restrictions: \n\n  Plus 7% Sales Tax!\n\n  Offer available ONLINE ONLY!\n\n  Tickets must be used on or before September 2\, 2019\n\n  All sales are final. No Refunds.
X-ALT-DESC;FMTTYPE=text/html:Come face to face with prehistoric sea monsters!<br />\nThey&#39\;ve traveled 75 million years. Fourty-five feet long. Teeth like daggers. And they&#39\;ve come for you. See giant dinosaurs of the deep\, up close and in person. Touch fossils\, and experience the ocean as it was 75 million years ago.The Savage Ancient Seas a traveling exhibition only at Miami Seaquarium!<br />\n<br />\nBuy Now and Save $8!<br />\n<br />\nAdults:&nbsp\;$39.99*&nbsp\;|&nbsp\;Children (3-9 yrs.):&nbsp\;$29.99*<br />\n<br />\nYour ticket includes:&nbsp\;<br />\n&bull\; General admission to the park&nbsp\;<br />\n&bull\; All shows and presentations&nbsp\;<br />\n<br />\nTicket Restrictions:&nbsp\;<br />\n&bull\; Plus 7% Sales Tax!<br />\n&bull\; Offer available ONLINE ONLY!<br />\n&bull\; Tickets must be used on or before September 2\, 2019<br />\n&bull\; All sales are final. No Refunds.&nbsp\;&nbsp\;
LOCATION:
UID:e.1580.19383
SEQUENCE:3
DTSTAMP:20260425T153219Z
URL:https://business.mdglcc.com/events/details/savage-ancient-seas-19383
END:VEVENT

END:VCALENDAR
