BEGIN:VCALENDAR
VERSION:2.0
PRODID:-//ChamberMaster//Event Calendar 2.0//EN
METHOD:PUBLISH
X-PUBLISHED-TTL:P3D
REFRESH-INTERVAL:P3D
CALSCALE:GREGORIAN
BEGIN:VEVENT
DTSTART:20210502T230000Z
DTEND:20210503T010000Z
X-MICROSOFT-CDO-ALLDAYEVENT:FALSE
SUMMARY:SCHITT’S CREEK: THE FAREWELL TOUR
DESCRIPTION:The cast of "Schitt's Creek" brings "Schitt's Creek: The Farewell Tour" to Hard Rock Live. During this unique event fans can join the "Schitt's Creek" cast members including Eugene Levy and Daniel Levy for an interactive evening that gives fans an inside look into the making of the series using clips\, behind the scenes footage\, stories from the cast members and more. \n\n"Schitt's Creek\," the critically acclaimed comedy co-created by Eugene Levy and Daniel Levy\, follows a wealthy family who suddenly find themselves broke and forced to live in Schitt's Creek\, a small town they once bought as a joke. The series features comedy legends and Emmy Award-winning actors Eugene Levy\, Catherine O'Hara and Chris Elliot\, alongside breakout stars Daniel Levy\, Annie Murphy and Emily Hampshire.
X-ALT-DESC;FMTTYPE=text/html:<p>The cast of &ldquo\;Schitt&rsquo\;s Creek&rdquo\; brings &ldquo\;Schitt&rsquo\;s Creek: The Farewell Tour&rdquo\; to Hard Rock Live. During this unique event fans can join the &ldquo\;Schitt&rsquo\;s Creek&rdquo\; cast members including Eugene Levy and Daniel Levy for an interactive evening that gives fans an inside look into the making of the series using clips\, behind the scenes footage\, stories from the cast members and more.&nbsp\;</p>\n\n<p>&ldquo\;Schitt&rsquo\;s Creek\,&rdquo\; the critically acclaimed comedy co-created by Eugene Levy and Daniel Levy\, follows a wealthy family who suddenly find themselves broke and forced to live in Schitt&rsquo\;s Creek\, a small town they once bought as a joke. The series features comedy legends and Emmy Award-winning actors Eugene Levy\, Catherine O&rsquo\;Hara and Chris Elliot\, alongside breakout stars Daniel Levy\, Annie Murphy and Emily Hampshire.&nbsp\;</p>\n<span style="color:rgb(71\, 71\, 71)\; font-family:lato\,lato\,helvetica\,helvetica neue\,helvetica\,arial\,sans-serif\; font-size:15px">&nbsp\;</span>
LOCATION:Hard Rock Live-Hollywood
UID:e.1580.20814
SEQUENCE:3
DTSTAMP:20260422T121513Z
URL:https://business.mdglcc.com/events/details/schitt-s-creek-the-farewell-tour-20814
END:VEVENT

END:VCALENDAR
