BEGIN:VCALENDAR
VERSION:2.0
PRODID:-//ChamberMaster//Event Calendar 2.0//EN
METHOD:PUBLISH
X-PUBLISHED-TTL:P3D
REFRESH-INTERVAL:P3D
CALSCALE:GREGORIAN
BEGIN:VEVENT
DTSTART;VALUE=DATE:20190703
DTEND;VALUE=DATE:20190829
TRANSP:TRANSPARENT
X-MICROSOFT-CDO-ALLDAYEVENT:TRUE
SUMMARY:Smart Day
DESCRIPTION:For only $37.99 per adult and $27.99 per child\, enjoy on select days only (Monday - Wednesday) general admission to Miami Seaquarium! Experience amazing mammal shows with our dolphins and sea lions.\n\n\n\nTake advantage of this online offer and share what your smart day was like!
X-ALT-DESC;FMTTYPE=text/html:For only $37.99 per adult and $27.99 per child\, enjoy on select days only (Monday - Wednesday) general admission to Miami Seaquarium! Experience amazing mammal shows with our dolphins and sea lions.<br />\n<br />\nTake advantage of this online offer and share what your smart day was like!
LOCATION:
UID:e.1580.19382
SEQUENCE:3
DTSTAMP:20260425T172415Z
URL:https://business.mdglcc.com/events/details/smart-day-19382
END:VEVENT

END:VCALENDAR
