BEGIN:VCALENDAR
VERSION:2.0
PRODID:-//ChamberMaster//Event Calendar 2.0//EN
METHOD:PUBLISH
X-PUBLISHED-TTL:P3D
REFRESH-INTERVAL:P3D
CALSCALE:GREGORIAN
BEGIN:VEVENT
DTSTART:20190413T123000Z
DTEND:20190414T203000Z
X-MICROSOFT-CDO-ALLDAYEVENT:FALSE
SUMMARY:Spring Garden Festival and 40th Annual Spring Plant Sale
DESCRIPTION:Join us as we celebrate the season with local foods and the gorgeous gardens they grow in. Learn tips to keep your garden thriving during the summer months\, pick up a trick from local chefs.\n\nSpring Festival features fun for the entire family with music\, vendors\, food\, activities for the kids and the Spring Plant Sale\, a chance to get plants grown by Fairchild horticulturists in our own nurseries!
X-ALT-DESC;FMTTYPE=text/html:<p>Join us as we celebrate the season with local foods and the gorgeous gardens they grow in. Learn tips to keep your garden thriving during the summer months\, pick up a trick from local chefs.</p>\n\n<p>Spring Festival features fun for the entire family with music\, vendors\, food\, activities for the kids and the&nbsp\;<strong><a href="https://www.fairchildgarden.org/Events-Community-Outreach/Spring-Garden-Festival-Featuring-the-Spring-Plant-Sale/Spring-Plant-Sale-2018-Plants" style="box-sizing: border-box\; margin: 0px\; padding: 0px\; border: 0px\; font: inherit\; vertical-align: baseline\; color: rgb(0\, 112\, 74)\; outline: 0px\; background: transparent\;">Spring Plant Sale</a></strong>\, a chance to get plants grown by Fairchild horticulturists in our own nurseries!</p>\n
LOCATION:Fairchild Tropical Botanic Garden 10901 Old Cutler Road Coral Gables\, FL 33156
UID:e.1580.17081
SEQUENCE:3
DTSTAMP:20260425T233424Z
URL:https://business.mdglcc.com/events/details/spring-garden-festival-and-40th-annual-spring-plant-sale-17081
END:VEVENT

END:VCALENDAR
