BEGIN:VCALENDAR
VERSION:2.0
PRODID:-//ChamberMaster//Event Calendar 2.0//EN
METHOD:PUBLISH
X-PUBLISHED-TTL:P3D
REFRESH-INTERVAL:P3D
CALSCALE:GREGORIAN
BEGIN:VEVENT
DTSTART:20190621T130000Z
DTEND:20190621T193000Z
X-MICROSOFT-CDO-ALLDAYEVENT:FALSE
SUMMARY:Summer Art Camp at The Bass
DESCRIPTION:Designed for children ages 5-12\, Summer Art Camps at The Bass are led by professional museum educators\, teaching artists and certified M-DPS art teachers. Campers will make one-of-a-kind STEAM inspired projects and learn through fun\, hands-on art activities in sculpture\, painting\, design and more. Art Camps run weekly from June 10 to August 16\, Monday through Friday\, 9 AM   3:30 PM. There is no camp on Thursday\, July 4 th . Sign up for one week or the whole summer! Not a member? Join today and save 20% on registration!
X-ALT-DESC;FMTTYPE=text/html:Designed for children ages 5-12\, Summer Art Camps at The Bass are led by professional museum educators\, teaching artists and certified M-DPS art teachers. Campers will make one-of-a-kind STEAM inspired projects and learn through fun\, hands-on art activities in sculpture\, painting\, design and more. Art Camps run weekly from June 10 to August 16\, Monday through Friday\, 9 AM &ndash\; 3:30 PM. There is no camp on Thursday\, July 4 th . Sign up for one week or the whole summer! Not a member? Join today and save 20% on registration!
LOCATION:2100 Collins Ave. Miami Beach\, FL 33139
UID:e.1580.18773
SEQUENCE:3
DTSTAMP:20260425T220611Z
URL:https://business.mdglcc.com/events/details/summer-art-camp-at-the-bass-06-21-2019-18773
END:VEVENT

END:VCALENDAR
