BEGIN:VCALENDAR
VERSION:2.0
PRODID:-//ChamberMaster//Event Calendar 2.0//EN
METHOD:PUBLISH
X-PUBLISHED-TTL:P3D
REFRESH-INTERVAL:P3D
CALSCALE:GREGORIAN
BEGIN:VEVENT
DTSTART:20190916T000000Z
DTEND:20190916T020000Z
X-MICROSOFT-CDO-ALLDAYEVENT:FALSE
SUMMARY:Summer Jazz Series at Faena Theater
DESCRIPTION:Faena LIVE and American Airlines proudly present the third annual Summer Jazz Series at Faena Theater\, a five-month concert series featuring jazz's brightest stars and emerging talent.\n\nCurated by Grammy-nominated producer Rachel Faro and hosted by the legendary Grammy-nominated percussionist\, Sammy Figueroa\, the 2019 installment of Faena's Summer Jazz Series will feature intimate performances by rising pianist Brandon Goldberg\, singer Veronica Swift with the Shelly Berg Trio\, singer Alicia Olatuja\, and pianist Matthew Whitaker. Host Sammy Figueroa will close out the spectacular series alongside The Latin All-Stars and Maria Rivas.
X-ALT-DESC;FMTTYPE=text/html:<h2 style="text-align:center">Faena LIVE and American Airlines proudly present the third annual Summer Jazz Series at Faena Theater\, a five-month concert series featuring jazz&rsquo\;s brightest stars and emerging talent.</h2>\n\n<p style="text-align:center">Curated by Grammy-nominated producer Rachel Faro and hosted by the legendary Grammy-nominated percussionist\, Sammy Figueroa\, the 2019 installment of Faena&rsquo\;s Summer Jazz Series will feature intimate performances by rising pianist <strong>Brandon Goldberg</strong>\, singer <strong>Veronica Swift</strong> with the <strong>Shelly Berg Trio</strong>\, singer <strong>Alicia Olatuja</strong>\, and pianist <strong>Matthew Whitaker.</strong> Host Sammy Figueroa will close out the spectacular series alongside The Latin All-Stars and <strong>Maria Rivas</strong>.</p>\n
LOCATION:
UID:e.1580.19390
SEQUENCE:3
DTSTAMP:20260425T152848Z
URL:https://business.mdglcc.com/events/details/summer-jazz-series-at-faena-theater-09-15-2019-19390
END:VEVENT

END:VCALENDAR
