BEGIN:VCALENDAR
VERSION:2.0
PRODID:-//ChamberMaster//Event Calendar 2.0//EN
METHOD:PUBLISH
X-PUBLISHED-TTL:P3D
REFRESH-INTERVAL:P3D
CALSCALE:GREGORIAN
BEGIN:VEVENT
DTSTART:20190717T160000Z
DTEND:20190930T040000Z
X-MICROSOFT-CDO-ALLDAYEVENT:FALSE
SUMMARY:Summer Savings Offer
DESCRIPTION:BOOK NOW AND RECEIVE A COMPLIMENTARY\n\n1 HOUR WELCOME RECEPTION \n\n \n\n \n\nGroups of 50 rooms on peak or more with valid food and beverage minimum\n\n \n\nTwo night minimum required\n\n \n\nFor new bookings only that will actualize in 2019\n\n \n\nOffer is based on availability \n\n \n\nCannot be combined with other offers\n\n \n\nValid until September 30th\, 2019\n\n\n\nFOR MORE INFORMATION EMAIL\n\n \n\neventscolonnade@hotelcolonnade.com (305) 441.2600
X-ALT-DESC;FMTTYPE=text/html:<span style="font-size:16pt">BOOK NOW AND RECEIVE A <span style="color:rgb(204\, 153\, 0)">COMPLIMENTARY</span></span><br />\n<span style="font-size:16pt">1 HOUR WELCOME RECEPTION </span><br />\n&nbsp\;<br />\n&nbsp\;<br />\n<em><span style="font-size:9pt"><span style="color:rgb(127\, 127\, 127)">Groups of 50 rooms on peak or more with valid food and beverage minimum</span></span></em><br />\n&nbsp\;<br />\n<em><span style="font-size:9pt"><span style="color:rgb(127\, 127\, 127)">Two night minimum required</span></span></em><br />\n&nbsp\;<br />\n<em><span style="font-size:9pt"><span style="color:rgb(127\, 127\, 127)">For new bookings only that will actualize in 2019</span></span></em><br />\n&nbsp\;<br />\n<em><span style="font-size:9pt"><span style="color:rgb(127\, 127\, 127)">Offer is based on availability </span></span></em><br />\n&nbsp\;<br />\n<em><span style="font-size:9pt"><span style="color:rgb(127\, 127\, 127)">Cannot be combined with other offers</span></span></em><br />\n&nbsp\;<br />\n<em><span style="font-size:9pt"><span style="color:rgb(127\, 127\, 127)">Valid until September 30<sup>th</sup>\, 2019</span></span></em><br />\n<br />\n<span style="font-size:12pt"><span style="color:rgb(127\, 127\, 127)">FOR MORE INFORMATION EMAIL</span></span><br />\n&nbsp\;<br />\n<span style="font-size:10pt"><span style="color:rgb(204\, 153\, 0)">eventscolonnade@hotelcolonnade.com (305) 441.2600</span></span><br />\n<br />\n&nbsp\;
LOCATION:Hotel Colonnade Coral Gables 180 Aragon Avenue Coral Gables\, FL 33134
UID:e.1580.19447
SEQUENCE:3
DTSTAMP:20260425T152511Z
URL:https://business.mdglcc.com/events/details/summer-savings-offer-19447
END:VEVENT

END:VCALENDAR
