BEGIN:VCALENDAR
VERSION:2.0
PRODID:-//ChamberMaster//Event Calendar 2.0//EN
METHOD:PUBLISH
X-PUBLISHED-TTL:P3D
REFRESH-INTERVAL:P3D
CALSCALE:GREGORIAN
BEGIN:VEVENT
DTSTART;VALUE=DATE:20190511
DTEND;VALUE=DATE:20191001
TRANSP:TRANSPARENT
X-MICROSOFT-CDO-ALLDAYEVENT:TRUE
SUMMARY:Summer Savings Pass
DESCRIPTION:Turn your summer into an adventure with our Summer Savings Pass! Enjoy unlimited visits to Miami Seaquarium\, Lion Country Safari\, Museum of Discovery & Science\, and Zoo Miami until September 30\, 2019.\n\n\n\nPass Restrictions: Summer Savings Pass must be picked up at Miami Seaquarium by September 30\, 2019. Passes are non-replaceable if lost or stolen. All purchases are final. No refunds. All sales are final.
X-ALT-DESC;FMTTYPE=text/html:Turn your summer into an adventure with our Summer Savings Pass! Enjoy unlimited visits to Miami Seaquarium\, Lion Country Safari\, Museum of Discovery &amp\; Science\, and Zoo Miami until September 30\, 2019.<br />\n<br />\nPass Restrictions:&nbsp\;Summer Savings Pass must be picked up at Miami Seaquarium by September 30\, 2019. Passes are non-replaceable if lost or stolen. All purchases are final. No refunds. All sales are final.
LOCATION:
UID:e.1580.18977
SEQUENCE:3
DTSTAMP:20260425T152536Z
URL:https://business.mdglcc.com/events/details/summer-savings-pass-05-11-2019-18977
END:VEVENT

END:VCALENDAR
