BEGIN:VCALENDAR
VERSION:2.0
PRODID:-//ChamberMaster//Event Calendar 2.0//EN
METHOD:PUBLISH
X-PUBLISHED-TTL:P3D
REFRESH-INTERVAL:P3D
CALSCALE:GREGORIAN
BEGIN:VEVENT
DTSTART:20200125T183000Z
DTEND:20200125T210000Z
X-MICROSOFT-CDO-ALLDAYEVENT:FALSE
SUMMARY:Teen Art Class at The Bass
DESCRIPTION:Using exhibiting artist Lara Favaretto's exhibition\, Blind Spot as a source of inspiration\, learn tips and tricks on how to draw from life by acknowledging composition\, shape\, form and gradation. Use a variety of techniques and drawing materials in this foundational class.
X-ALT-DESC;FMTTYPE=text/html:<p style="margin-left:0px\; margin-right:0px\; text-align:left">Using exhibiting artist Lara Favaretto&rsquo\;s exhibition\, <em>Blind Spot&nbsp\;</em>as a source of inspiration\, learn tips and tricks on how to draw from life by acknowledging composition\, shape\, form and gradation. Use a variety of techniques and drawing materials in this foundational class.</p>\n
LOCATION:The Bass 2100 Collins Ave Miami Beach\, FL 33139
UID:e.1580.20598
SEQUENCE:3
DTSTAMP:20260425T101901Z
URL:https://business.mdglcc.com/events/details/teen-art-class-at-the-bass-01-25-2020-20598
END:VEVENT

END:VCALENDAR
