BEGIN:VCALENDAR
VERSION:2.0
PRODID:-//ChamberMaster//Event Calendar 2.0//EN
METHOD:PUBLISH
X-PUBLISHED-TTL:P3D
REFRESH-INTERVAL:P3D
CALSCALE:GREGORIAN
BEGIN:VEVENT
DTSTART:20190914T173000Z
DTEND:20190914T200000Z
X-MICROSOFT-CDO-ALLDAYEVENT:FALSE
SUMMARY:Teen Art Class at The Bass
DESCRIPTION:Contour\, gesture and value drawing are just a few of the exercises used to create art with life. In this class\, you will be exposed to various methods of drawing techniques to enhance your drawing skills.\n\nStudio art intensive workshops for building a strong portfolio of work. Each week is devoted to a particular medium\, providing students the ability to select and explore material. Professional art teachers will advise and guide students to develop their skillset\, hone their studio art practice\, and experiment with a multitude of materials. Students will learn how to articulate their vision and speak about artwork through one-on-one and group critique\, a necessary tool for artist development. Students are encouraged to attend all sessions.
X-ALT-DESC;FMTTYPE=text/html:<p style="margin-left:0px\; margin-right:0px\; text-align:left">Contour\, gesture and value drawing are just a few of the exercises used to create art with life. In this class\, you will be exposed to various methods of drawing techniques to enhance your drawing skills.<br />\nStudio art&nbsp\;intensive workshops for building a strong portfolio of work. Each week is devoted to a particular medium\, providing students the ability to select and explore material. Professional art teachers will advise and guide students to develop their skillset\, hone their studio art practice\, and experiment with a multitude of materials. Students will learn how to articulate their vision and speak about artwork through one-on-one and group critique\, a necessary tool for artist development. Students are encouraged to attend all sessions.</p>\n
LOCATION:The Bass 2100 Collins Avenue Miami Beach\, FL 33139
UID:e.1580.19502
SEQUENCE:3
DTSTAMP:20260425T152925Z
URL:https://business.mdglcc.com/events/details/teen-art-class-at-the-bass-09-14-2019-19502
END:VEVENT

END:VCALENDAR
