BEGIN:VCALENDAR
VERSION:2.0
PRODID:-//ChamberMaster//Event Calendar 2.0//EN
METHOD:PUBLISH
X-PUBLISHED-TTL:P3D
REFRESH-INTERVAL:P3D
CALSCALE:GREGORIAN
BEGIN:VEVENT
DTSTART:20191118T010000Z
DTEND:20191118T030000Z
X-MICROSOFT-CDO-ALLDAYEVENT:FALSE
SUMMARY:The Bridge of San Luis Rey by Thornton Wilder
DESCRIPTION:Miami New Drama opens its season at the Colony Theatre with The Bridge of San Luis Rey\, a new play based on the Pulitzer Prize winning novel by Thornton Wilder that Time Magazine calls "One of the Best novels of the 20th century." Adapted for the stage by and starring six-time Obie Award-winner David Greenspan\, The Bridge of San Luis Rey is a lyrical fable of fate and love about five travelers in colonial Peru whose lives intersect in an epic and unexpected way.
X-ALT-DESC;FMTTYPE=text/html:<span style="color:rgb(0\, 0\, 0)\; font-family:-webkit-standard">Miami New Drama opens its season<strong>&nbsp\;</strong>at the Colony Theatre with The Bridge of San Luis Rey\, a new<strong>&nbsp\;</strong>play based on the Pulitzer Prize winning novel by Thornton Wilder that Time Magazine calls &ldquo\;One of the Best novels of the 20th century.&rdquo\; Adapted for the stage by and starring six-time Obie Award-winner David Greenspan\, The Bridge of San Luis Rey is a lyrical fable of fate and love about five travelers in colonial Peru whose lives intersect in an epic and unexpected way.</span>
LOCATION:Colony Theatre 1040 Lincoln Rd Miami Beach\, FL 33139
UID:e.1580.20252
SEQUENCE:3
DTSTAMP:20260425T120742Z
URL:https://business.mdglcc.com/events/details/the-bridge-of-san-luis-rey-by-thornton-wilder-11-17-2019-20252
END:VEVENT

END:VCALENDAR
