BEGIN:VCALENDAR
VERSION:2.0
PRODID:-//ChamberMaster//Event Calendar 2.0//EN
METHOD:PUBLISH
X-PUBLISHED-TTL:P3D
REFRESH-INTERVAL:P3D
CALSCALE:GREGORIAN
BEGIN:VEVENT
DTSTART:20191228T001500Z
DTEND:20191228T033000Z
X-MICROSOFT-CDO-ALLDAYEVENT:FALSE
SUMMARY:The Cook\, the Thief\, his Wife & her Lover- The World Premiere of a Delicious New Theater & Dining Experience
DESCRIPTION:Check your morals at the door of Le Hollandais restaurant as you play a part in an intoxicating revenge tragedy that will leave you questioning your deepest human desires.\n\nThis visually thrilling adaptation of Peter Greenaway's critically-acclaimed 1989 film\, The Cook\, The Thief\, His Wife & Her Lover\, is brought to life by Alan Faena in partnership with Unigram Theatrical.  Transport into the macabre extravagance of the 1980's with The Cook\, who stirs up the drama in the tumultuous relationship of an ill-mannered mobster-turn-restaurant owner\, the Thief\, and his Wife\, who has a wandering eye.\n\nThe Cook serves up grandiose dishes from a menu created by James Beard award-winner Michelle Bernstein that is a nod to the lavish European cuisine of the time with a South Florida twist before it all takes a tragic turn.\n\nThis trans portative experience blurs the lines between fantasy and reality\, cast and audience\, for a truly unique evening of mind-bending dining and entertainment.
X-ALT-DESC;FMTTYPE=text/html:<div style="text-align:center">\n<h2 style="text-align:center">Check your morals at the door of Le Hollandais restaurant as you play a part in an intoxicating revenge tragedy that will leave you questioning your deepest human desires.</h2>\n\n<p style="text-align:center">This visually thrilling adaptation of Peter Greenaway&rsquo\;s critically-acclaimed 1989 film\,&nbsp\;<em>The Cook\, The Thief\, His Wife &amp\; Her Lover</em>\, is brought to life by Alan Faena in partnership with Unigram Theatrical.&nbsp\; Transport into the macabre extravagance of the 1980&rsquo\;s with The Cook\, who stirs up the drama in the tumultuous relationship of an ill-mannered mobster-turn-restaurant owner\, the Thief\, and his Wife\, who has a wandering eye.</p>\n\n<p style="text-align:center">The Cook serves up grandiose dishes from a menu created by James Beard award-winner Michelle Bernstein that is a nod to the lavish European cuisine of the time with a South Florida twist before it all takes a tragic turn.</p>\n\n<p style="text-align:center">This trans portative experience blurs the lines between fantasy and reality\, cast and audience\, for a truly unique evening of mind-bending dining and entertainment.</p>\n</div>\n
LOCATION:FAENA THEATER 3201 COLLINS AVE MIAMI BEACH\, FL 33140 Check-in located at street-level entrance to The Saxony Bar\, adjacent to Faena Theater on corner of 32nd Street and Collins Avenue. Guests cannot enter through main hotel lobby. FOR GROUP RESERVATIONS OF 8+ PLEASE CONTACT THEATER SALES MANAGER DANIELLA FERNICOLA AT dfernicola@faena.com
UID:e.1580.20291
SEQUENCE:3
DTSTAMP:20260425T102211Z
URL:https://business.mdglcc.com/events/details/the-cook-the-thief-his-wife-her-lover-the-world-premiere-of-a-delicious-new-theater-dining-experience-12-27-2019-20291
END:VEVENT

END:VCALENDAR
