BEGIN:VCALENDAR
VERSION:2.0
PRODID:-//ChamberMaster//Event Calendar 2.0//EN
METHOD:PUBLISH
X-PUBLISHED-TTL:P3D
REFRESH-INTERVAL:P3D
CALSCALE:GREGORIAN
BEGIN:VEVENT
DTSTART;VALUE=DATE:20200115
DTEND;VALUE=DATE:20200116
TRANSP:TRANSPARENT
X-MICROSOFT-CDO-ALLDAYEVENT:TRUE
SUMMARY:The New Public Charge Law and The Insurance Requirements for All Non-Immigrant Visa Applicants
DESCRIPTION:Topics:\n\n	Analysis of the true impact of the new Public Charge Law for residence and citizenship applications.\n	The negative impact factor that could affect your ability to bring your relative to this country.\n	What are the new requirements of Insurance Policies for all B1-B2 visas.
X-ALT-DESC;FMTTYPE=text/html:<span style="font-family:century gothic\,sans-serif"><span style="font-size:10.5pt">Topics:</span></span>\n<ul>\n	<li><span style="font-family:century gothic\,sans-serif"><span style="font-size:10.5pt">Analysis of the true impact of the new Public Charge Law for residence and citizenship applications.</span></span></li>\n	<li><span style="font-family:century gothic\,sans-serif"><span style="font-size:10.5pt">The negative impact factor that could affect your ability to bring your relative to this country.</span></span></li>\n	<li><span style="font-family:century gothic\,sans-serif"><span style="font-size:10.5pt">What are the new requirements of Insurance Policies for all B1-B2 visas.</span></span></li>\n</ul>\n
LOCATION:1101 Brickell Ave. South Tower Ste. 700 Miami Fl. 33139.
UID:e.1580.20446
SEQUENCE:3
DTSTAMP:20260425T101927Z
URL:https://business.mdglcc.com/events/details/the-new-public-charge-law-and-the-insurance-requirements-for-all-non-immigrant-visa-applicants-20446
END:VEVENT

END:VCALENDAR
