BEGIN:VCALENDAR
VERSION:2.0
PRODID:-//ChamberMaster//Event Calendar 2.0//EN
METHOD:PUBLISH
X-PUBLISHED-TTL:P3D
REFRESH-INTERVAL:P3D
CALSCALE:GREGORIAN
BEGIN:VEVENT
DTSTART:20190516T220000Z
DTEND:20190517T000000Z
X-MICROSOFT-CDO-ALLDAYEVENT:FALSE
SUMMARY:The Rising Financial Power of Women Networker & Seminar
DESCRIPTION:Networking Happy Hour & Seminar Co-Presented by:\n\n\n\n  Treece Financial Group\n\n\n\n  Aqua Foundation for Women\n\n\n\n  Lambda Living\n\n\n\n  Miami-Dade Gay & Lesbian Chamber of Commerce\n\n\n\n \n\n\n\nPresentations by Robin Schwartz of Aqua Foundation for Women and David Treece & Laura Lucas of Treece Financial Group.\n\n\n\n \n\n\n\nJoin us for a woman-focused happy hour followed by an engaging seminar that will address the challenges women face when saving for a successful retirement:\n\n\n\n \n\n\n\nChallenge #1: Lower Earnings and Retirement Savings\n\n\n\nChallenge #2: Rising Retirement Costs\n\n\n\nChallenge #3: Inadequate Retirement Income\n\n\n\nChallenge #4: Longer Life Expectancy\n\n\n\nChallenge #5: More Adversely Affected by Unexpected Events\n\n\n\n \n\n\n\nLearn effective strategies for overcoming some of the difficult realities women encounter when trying to secure their financial health\, including:\n\n\n\n \n\n\n\n  Maximizing your IRAs and 401(k) plans.\n\n\n\n  Taking full advantage of your Social Security benefits.\n\n\n\n  Evaluating your portfolio to see if it has the growth potential necessary to keep up with rising costs.\n\n\n\n  Preparing for the unexpected with adequate insurance\, an emergency cash fund\, and a plan to maximize survivor benefits.\n\n\n\n \n\n\n\nAttendees will have the chance to win a copy of "Bad with Money: The Imperfect Art of Getting Your Financial Sh*t Together" by Gaby Dunn.\n\n\n_ _ _\n\nTreece Financial Group is a holistic financial planning resource with more than 25 years of dedication to working within South Florida's LGBTQ community. Financial Advisor David Treece strongly advocates for his clients and is committed to helping them align their finances with a life that they love.\n\nFor more information\, visit www.TreeceFinancial.com\n\n_ _ _\n\nDavid Treece\, MBA\, AIF \, Treece Financial Group\, 10800 Biscayne Boulevard\, Suite 725\, Miami\, FL 33161. Registered representative offering securities and advisory services through Cetera Advisors LLC\, member FINRA/SIPC\, a broker/ dealer\, and a Registered Investment Adviser. Cetera is under separate ownership from any other named entity. Securities and advisory services offered through Cetera Advisors LLC\, member FINRA\, SIPC. Cetera is under separate ownership from any other named entity.\n\n\n\nThis event has been sponsored in part by AIG. This event has been sponsored in part by AIG. Investors should carefully consider the investment objectives\, risks\, charges and expenses of the variable annuities offered by American General Life Insurance. This and other important information is contained in the prospectus which can be obtained by calling your Registered Representative at 305-751-8855. Read prospectus carefully before investing.
X-ALT-DESC;FMTTYPE=text/html:<div>\n<div><span style="font-family:inherit">&nbsp\;Networking Happy Hour &amp\; Seminar Co-Presented by:</span></div>\n</div>\n\n<div>\n<div><span style="font-family:inherit">&bull\; Treece Financial Group</span></div>\n</div>\n\n<div>\n<div><span style="font-family:inherit">&bull\; Aqua Foundation for Women</span></div>\n</div>\n\n<div>\n<div><span style="font-family:inherit">&bull\; Lambda Living</span></div>\n</div>\n\n<div>\n<div><span style="font-family:inherit">&bull\; Miami-Dade Gay &amp\; Lesbian Chamber of Commerce</span></div>\n</div>\n\n<div>\n<div>&nbsp\;</div>\n</div>\n\n<div>\n<div><span style="font-family:inherit">Presentations by Robin Schwartz of Aqua Foundation for Women and David Treece &amp\; Laura Lucas of Treece Financial Group.</span></div>\n</div>\n\n<div>\n<div>&nbsp\;</div>\n</div>\n\n<div>\n<div><span style="font-family:inherit">Join us for a woman-focused happy hour followed by an engaging seminar that will address the challenges women face when saving for a successful retirement:</span></div>\n</div>\n\n<div>\n<div>&nbsp\;</div>\n</div>\n\n<div>\n<div><span style="font-family:inherit">Challenge #1: Lower Earnings and Retirement Savings</span></div>\n</div>\n\n<div>\n<div><span style="font-family:inherit">Challenge #2: Rising Retirement Costs</span></div>\n</div>\n\n<div>\n<div><span style="font-family:inherit">Challenge #3: Inadequate Retirement Income</span></div>\n</div>\n\n<div>\n<div><span style="font-family:inherit">Challenge #4: Longer Life Expectancy</span></div>\n</div>\n\n<div>\n<div><span style="font-family:inherit">Challenge #5: More Adversely Affected by Unexpected Events</span></div>\n</div>\n\n<div>\n<div>&nbsp\;</div>\n</div>\n\n<div>\n<div><span style="font-family:inherit">Learn effective strategies for overcoming some of the difficult realities women encounter when trying to secure their financial health\, including:</span></div>\n</div>\n\n<div>\n<div>&nbsp\;</div>\n</div>\n\n<div>\n<div><span style="font-family:inherit">&bull\; Maximizing your IRAs and 401(k) plans.</span></div>\n</div>\n\n<div>\n<div><span style="font-family:inherit">&bull\; Taking full advantage of your Social Security benefits.</span></div>\n</div>\n\n<div>\n<div><span style="font-family:inherit">&bull\; Evaluating your portfolio to see if it has the growth potential necessary to keep up with rising costs.</span></div>\n</div>\n\n<div>\n<div><span style="font-family:inherit">&bull\; Preparing for the unexpected with adequate insurance\, an emergency cash fund\, and a plan to maximize survivor benefits.</span></div>\n</div>\n\n<div>\n<div>&nbsp\;</div>\n</div>\n\n<div>\n<div><span style="font-family:inherit">Attendees will have the chance to win a copy of &quot\;Bad with Money: The Imperfect Art of Getting Your Financial Sh*t Together&quot\; by Gaby Dunn.</span></div>\n</div>\n\n<div><span style="font-family:inherit">_ _ _</span>\n\n<p><em>Treece Financial Group is a holistic financial planning resource with more than 25 years of dedication to working within South Florida&rsquo\;s LGBTQ community. Financial Advisor David Treece strongly advocates for his clients and is committed to helping them align their finances with a life that they love.</em></p>\n\n<p><em>For more information\, visit <a href="http://www.TreeceFinancial.com" target="_blank">www.TreeceFinancial.com</a></em></p>\n\n<p><em>_ _ _</em></p>\n\n<p><em>David Treece\, MBA\, AIF&reg\;\, Treece Financial Group\, 10800 Biscayne Boulevard\, Suite 725\, Miami\, FL 33161. Registered representative offering securities and advisory services through Cetera Advisors LLC\, member FINRA/SIPC\, a broker/ dealer\, and a Registered Investment Adviser. Cetera is under separate ownership from any other named entity. Securities and advisory services offered through Cetera Advisors LLC\, member FINRA\, SIPC. Cetera is under separate ownership from any other named entity.</em></p>\n</div>\n\n<div>\n<div><em><span style="font-family:inherit">This event has been sponsored in part by AIG. This event has been sponsored in part by AIG. Investors should carefully consider the investment objectives\, risks\, charges and expenses of the variable annuities offered by American General Life Insurance. This and other important information is contained in the prospectus which can be obtained by calling your Registered Representative at 305-751-8855. Read prospectus carefully before investing.</span></em></div>\n</div>\n
LOCATION:The Citadel Miami 8300 NE 2nd Avenue Miami FL 33138 (Free street and lot parking)
UID:e.1580.18979
SEQUENCE:3
DTSTAMP:20260425T220636Z
URL:https://business.mdglcc.com/events/details/the-rising-financial-power-of-women-networker-seminar-18979
END:VEVENT

END:VCALENDAR
