BEGIN:VCALENDAR
VERSION:2.0
PRODID:-//ChamberMaster//Event Calendar 2.0//EN
METHOD:PUBLISH
X-PUBLISHED-TTL:P3D
REFRESH-INTERVAL:P3D
CALSCALE:GREGORIAN
BEGIN:VEVENT
DTSTART:20190414T153000Z
DTEND:20190414T183000Z
X-MICROSOFT-CDO-ALLDAYEVENT:FALSE
SUMMARY:The Temple Israel of Greater Miami Chamber Series- Julian Schwarz\, cello
DESCRIPTION:Temple Israel of Greater Miami Chamber Series\, showcasing extraordinary virtuosos\, we will present the incomparable cellist\, Julian Schwarz.\n\nSunday\, April 14th- BLOCH / BRAHMS / CHOPIN / DEBUSSY / SCHUMANN-\n\nJULIAN SCHWARZ\, CELLO\n\n \n\nJulian Schwarz (born January 18\, 1991) is an American cellist of Austrian descent who graduated from Juilliard School. Schwarz is currently on the cello faculty of Eastern Music Festival and as of August 2017\, the assistant professor of cello at Shenendoah Conservatory. He won the 2013 inaugural Alice and Eleonore Schoenfeld International String Competition in Hong Kong and the 2016 Boulder International Chamber Music Competition's "The Art of Duo" with pianist Marika Bournaki.\n\n \n\n\n  Julian Schwarz \n\nCello \n\nMarika Bournaki \n\nPiano \n\n \n\n \n\nRobert Schumann Fantasy Pieces\, Op. 73 \n\n(1810-1856)Zart und mit Ausdruck \n\nLebhaft\, leicht \n\nRasch und mit Feuer \n\n \n\nJohannes Brahms Sonata No. 1 for Cello and Piano\, Op. 38 \n\n(1833-1897)Allegro non troppo \n\nAllegretto quasi Menuetto \n\nAllegro \n\n \n\nINTERMISSION \n\n \n\nClaude Debussy Sonata for Cello and Piano in D minor \n\n(1862-1918)Prologue \n\nS r nade \n\nFinale \n\n \n\nFranz Danzi Concert Piece No. 2 in B-flat Major  \n\n(1763-1826)(Variations on Mozart's "L  ci darem la mano") \n\n \n\nErnest Bloch Meditation Hebraique \n\n(1880-1959) \n\n \n\nFr d ric Chopin Introduction and Polonaise Brillante\, Op 3 \n\n(1810-1849) \n\n \n\nAs a member or friend of Temple Israel of Greater Miami we are offering you a 20% discount for the next recital and brunch . Please use Promo Code TIM1 when purchasing. \n\n\n	BRUNCH 11:30 AM & RECITAL $72 with promo code TIM\n	RECITAL ONLY 1:00 PM $36 with promo code TIM\n\n\n \n\n \n\n \n\nPlease call Mark Nedlin at 917-373-7794 for more information.
X-ALT-DESC;FMTTYPE=text/html:<div><span style="color:rgb(0\, 0\, 0)\; font-size:20px">&nbsp\;</span><strong>Temple Israel of Greater Miami Chamber Series\,</strong><span style="color:rgb(0\, 0\, 0)\; font-size:20px">&nbsp\;showcasing extraordinary virtuosos\, we will present the incomparable cellist\,&nbsp\;</span><strong>Julian Schwarz.</strong></div>\n\n<div style="text-align:center"><strong>Sunday\, April 14th</strong><strong>-</strong><span style="color:rgb(201\, 151\, 14)\; font-size:26px">&nbsp\;</span><strong>BLOCH / BRAHMS / CHOPIN / DEBUSSY / SCHUMANN-</strong></div>\n\n<div style="text-align:center"><strong>JULIAN SCHWARZ\, CELLO</strong></div>\n\n<div>&nbsp\;</div>\n\n<div><strong>Julian Schwarz</strong><span style="color:rgb(33\, 33\, 33)\; font-size:20px">&nbsp\;(born January 18\, 1991) is an American cellist of Austrian descent who graduated from Juilliard School. Schwarz is currently on the cello faculty of Eastern Music Festival and as of August 2017\, the assistant professor of cello at Shenendoah Conservatory. He won the 2013 inaugural Alice and Eleonore Schoenfeld International String Competition in Hong Kong and the 2016 Boulder International Chamber Music Competition&rsquo\;s &ldquo\;The Art of Duo&quot\; with pianist Marika Bournaki.</span>\n\n<div>&nbsp\;</div>\n\n<div>\n<div style="text-align:center"><span style="color:rgba(0\, 0\, 0\, 0.847059)\; font-family:segoe ui\,lucida grande\,tahoma\,sans-serif\; font-size:19px">&nbsp\; Julian&nbsp\;Schwarz&nbsp\;</span></div>\n\n<div style="text-align:center"><span style="color:rgba(0\, 0\, 0\, 0.847059)\; font-family:segoe ui\,lucida grande\,tahoma\,sans-serif\; font-size:19px">Cello&nbsp\;</span></div>\n\n<div style="text-align:center"><span style="color:rgba(0\, 0\, 0\, 0.847059)\; font-family:segoe ui\,lucida grande\,tahoma\,sans-serif\; font-size:19px">Marika&nbsp\;Bournaki&nbsp\;</span></div>\n\n<div style="text-align:center"><span style="color:rgba(0\, 0\, 0\, 0.847059)\; font-family:segoe ui\,lucida grande\,tahoma\,sans-serif\; font-size:19px">Piano&nbsp\;</span></div>\n\n<div style="text-align:center"><span style="color:rgba(0\, 0\, 0\, 0.847059)\; font-family:segoe ui\,lucida grande\,tahoma\,sans-serif\; font-size:16px">&nbsp\;</span></div>\n\n<div style="text-align:center"><span style="color:rgba(0\, 0\, 0\, 0.847059)\; font-family:segoe ui\,lucida grande\,tahoma\,sans-serif\; font-size:16px">&nbsp\;</span></div>\n\n<div style="text-align:center"><span style="color:rgba(0\, 0\, 0\, 0.847059)\; font-family:segoe ui\,lucida grande\,tahoma\,sans-serif\; font-size:16px">Robert&nbsp\;Schumann&nbsp\;Fantasy Pieces\, Op. 73&nbsp\;</span></div>\n\n<div style="text-align:center"><span style="color:rgba(0\, 0\, 0\, 0.847059)\; font-family:segoe ui\,lucida grande\,tahoma\,sans-serif\; font-size:16px">(1810-1856)Zart&nbsp\;und&nbsp\;mit&nbsp\;Ausdruck&nbsp\;</span></div>\n\n<div style="text-align:center"><span style="color:rgba(0\, 0\, 0\, 0.847059)\; font-family:segoe ui\,lucida grande\,tahoma\,sans-serif\; font-size:12px">Lebhaft\,&nbsp\;leicht&nbsp\;</span></div>\n\n<div style="text-align:center"><span style="color:rgba(0\, 0\, 0\, 0.847059)\; font-family:segoe ui\,lucida grande\,tahoma\,sans-serif\; font-size:12px">Rasch und&nbsp\;mit&nbsp\;Feuer&nbsp\;</span></div>\n\n<div style="text-align:center"><span style="color:rgba(0\, 0\, 0\, 0.847059)\; font-family:segoe ui\,lucida grande\,tahoma\,sans-serif\; font-size:16px">&nbsp\;</span></div>\n\n<div style="text-align:center"><span style="color:rgba(0\, 0\, 0\, 0.847059)\; font-family:segoe ui\,lucida grande\,tahoma\,sans-serif\; font-size:16px">Johannes&nbsp\;Brahms&nbsp\;Sonata No. 1 for Cello and Piano\, Op. 38&nbsp\;</span></div>\n\n<div style="text-align:center"><span style="color:rgba(0\, 0\, 0\, 0.847059)\; font-family:segoe ui\,lucida grande\,tahoma\,sans-serif\; font-size:16px">(1833-1897)Allegro non&nbsp\;troppo&nbsp\;</span></div>\n\n<div style="text-align:center"><span style="color:rgba(0\, 0\, 0\, 0.847059)\; font-family:segoe ui\,lucida grande\,tahoma\,sans-serif\; font-size:12px">Allegretto quasi Menuetto&nbsp\;</span></div>\n\n<div style="text-align:center"><span style="color:rgba(0\, 0\, 0\, 0.847059)\; font-family:segoe ui\,lucida grande\,tahoma\,sans-serif\; font-size:12px">Allegro&nbsp\;</span></div>\n\n<div style="text-align:center"><span style="color:rgba(0\, 0\, 0\, 0.847059)\; font-family:segoe ui\,lucida grande\,tahoma\,sans-serif\; font-size:16px">&nbsp\;</span></div>\n\n<div style="text-align:center"><span style="color:rgba(0\, 0\, 0\, 0.847059)\; font-family:segoe ui\,lucida grande\,tahoma\,sans-serif\; font-size:12px">INTERMISSION&nbsp\;</span></div>\n\n<div style="text-align:center"><span style="color:rgba(0\, 0\, 0\, 0.847059)\; font-family:segoe ui\,lucida grande\,tahoma\,sans-serif\; font-size:16px">&nbsp\;</span></div>\n\n<div style="text-align:center"><span style="color:rgba(0\, 0\, 0\, 0.847059)\; font-family:segoe ui\,lucida grande\,tahoma\,sans-serif\; font-size:16px">Claude&nbsp\;Debussy&nbsp\;Sonata for Cello and Piano in D minor&nbsp\;</span></div>\n\n<div style="text-align:center"><span style="color:rgba(0\, 0\, 0\, 0.847059)\; font-family:segoe ui\,lucida grande\,tahoma\,sans-serif\; font-size:16px">(1862-1918)Prologue&nbsp\;</span></div>\n\n<div style="text-align:center"><span style="color:rgba(0\, 0\, 0\, 0.847059)\; font-family:segoe ui\,lucida grande\,tahoma\,sans-serif\; font-size:12px">S&eacute\;r&eacute\;nade&nbsp\;</span></div>\n\n<div style="text-align:center"><span style="color:rgba(0\, 0\, 0\, 0.847059)\; font-family:segoe ui\,lucida grande\,tahoma\,sans-serif\; font-size:12px">Finale&nbsp\;</span></div>\n\n<div style="text-align:center"><span style="color:rgba(0\, 0\, 0\, 0.847059)\; font-family:segoe ui\,lucida grande\,tahoma\,sans-serif\; font-size:16px">&nbsp\;</span></div>\n\n<div style="text-align:center"><span style="color:rgba(0\, 0\, 0\, 0.847059)\; font-family:segoe ui\,lucida grande\,tahoma\,sans-serif\; font-size:16px">Franz&nbsp\;Danzi&nbsp\;Concert Piece No. 2 in B-flat Major&nbsp\;&nbsp\;</span></div>\n\n<div style="text-align:center"><span style="color:rgba(0\, 0\, 0\, 0.847059)\; font-family:segoe ui\,lucida grande\,tahoma\,sans-serif\; font-size:16px">(1763-1826)(Variations on Mozart&#39\;s &quot\;L&agrave\;&nbsp\;ci&nbsp\;darem&nbsp\;la mano&quot\;)&nbsp\;</span></div>\n\n<div style="text-align:center"><span style="color:rgba(0\, 0\, 0\, 0.847059)\; font-family:segoe ui\,lucida grande\,tahoma\,sans-serif\; font-size:16px">&nbsp\;</span></div>\n\n<div style="text-align:center"><span style="color:rgba(0\, 0\, 0\, 0.847059)\; font-family:segoe ui\,lucida grande\,tahoma\,sans-serif\; font-size:16px">Ernest&nbsp\;Bloch&nbsp\;Meditation&nbsp\;Hebraique&nbsp\;</span></div>\n\n<div style="text-align:center"><span style="color:rgba(0\, 0\, 0\, 0.847059)\; font-family:segoe ui\,lucida grande\,tahoma\,sans-serif\; font-size:16px">(1880-1959)&nbsp\;</span></div>\n\n<div style="text-align:center"><span style="color:rgba(0\, 0\, 0\, 0.847059)\; font-family:segoe ui\,lucida grande\,tahoma\,sans-serif\; font-size:16px">&nbsp\;</span></div>\n\n<div style="text-align:center"><span style="color:rgba(0\, 0\, 0\, 0.847059)\; font-family:segoe ui\,lucida grande\,tahoma\,sans-serif\; font-size:16px">Fr&eacute\;d&eacute\;ric&nbsp\;Chopin&nbsp\;Introduction and Polonaise Brillante\, Op 3&nbsp\;</span></div>\n\n<div style="text-align:center"><span style="color:rgba(0\, 0\, 0\, 0.847059)\; font-family:segoe ui\,lucida grande\,tahoma\,sans-serif\; font-size:15px">(1810-1849)&nbsp\;</span></div>\n\n<div style="text-align:center">&nbsp\;</div>\n\n<div><span style="color:rgb(0\, 0\, 0)\; font-size:20px">As a member or friend of Temple Israel of Greater Miami we are offering you a 20% discount for the next recital and brunch&nbsp\;</span><strong>.</strong><span style="color:rgb(0\, 0\, 0)\; font-size:20px">&nbsp\;Please use Promo Code</span><span style="color:rgb(232\, 45\, 16)\; font-size:20px">&nbsp\;</span><strong>TIM1</strong><span style="color:rgb(0\, 0\, 0)\; font-size:20px">&nbsp\;when purchasing.&nbsp\;</span></div>\n\n<ul>\n	<li style="text-align:left"><strong>BRUNCH 11:30 AM &amp\; RECITAL&nbsp\;</strong><strong>$72&nbsp\;</strong><strong>with</strong><strong>&nbsp\;promo code</strong><strong>&nbsp\;</strong><strong>TIM</strong></li>\n	<li style="text-align:left"><strong>RECITAL ONLY 1:00 PM $</strong><strong>36</strong><span style="font-size:26px">&nbsp\;</span><strong>with promo code</strong>&nbsp\;<strong>TIM</strong></li>\n</ul>\n\n<div>&nbsp\;</div>\n\n<div style="text-align:center">&nbsp\;</div>\n\n<div style="text-align:center">&nbsp\;</div>\n\n<div style="text-align:center">Please call Mark Nedlin at 917-373-7794 for more information.</div>\n</div>\n</div>\n
LOCATION:Temple Israel of Grater Miami 137 NE 19TH ST Miami FL 33132
UID:e.1580.18552
SEQUENCE:3
DTSTAMP:20260425T233516Z
URL:https://business.mdglcc.com/events/details/the-temple-israel-of-greater-miami-chamber-series-julian-schwarz-cello-18552
END:VEVENT

END:VCALENDAR
