BEGIN:VCALENDAR
VERSION:2.0
PRODID:-//ChamberMaster//Event Calendar 2.0//EN
METHOD:PUBLISH
X-PUBLISHED-TTL:P3D
REFRESH-INTERVAL:P3D
CALSCALE:GREGORIAN
BEGIN:VEVENT
DTSTART:20190909T223000Z
DTEND:20190910T030000Z
X-MICROSOFT-CDO-ALLDAYEVENT:FALSE
SUMMARY:Villa For Her
DESCRIPTION:Ladies experience an abundance of new flavors with 50% off on food and drinks. (except Caviar and Seafood) every Mondays
X-ALT-DESC;FMTTYPE=text/html:Ladies experience an abundance of new flavors with 50% off on food and drinks. (except Caviar and Seafood) every Mondays&nbsp\;
LOCATION:309 23rd street 33139 Miami Beach FL
UID:e.1580.5756
SEQUENCE:3
DTSTAMP:20260425T153454Z
URL:https://business.mdglcc.com/events/details/villa-for-her-09-09-2019-5756
END:VEVENT

END:VCALENDAR
