BEGIN:VCALENDAR
VERSION:2.0
PRODID:-//ChamberMaster//Event Calendar 2.0//EN
METHOD:PUBLISH
X-PUBLISHED-TTL:P3D
REFRESH-INTERVAL:P3D
CALSCALE:GREGORIAN
BEGIN:VEVENT
DTSTART:20191218T153000Z
DTEND:20191218T161500Z
X-MICROSOFT-CDO-ALLDAYEVENT:FALSE
SUMMARY:We Wednesdays: Astonishing Air
DESCRIPTION:Join us for a new program on Wednesday mornings designed for our littlest learners (children ages four and younger) and their caregivers.\n\n\n\nHelp enhance your child's development with hands-on science activities that engage their senses and promote science learning through play in a safe and educational environment. Little ones will have the opportunity to explore the world around them while also developing their cognitive\, motor\, and social skills for a healthy brain and body.\n\n\n\nDecember: Astonishing Air\n\nDecember 4\, 11\, 18 (Wednesdays at 10:30 a.m.)\n\n\n\nLittle ones will be swishing and whooshing while exploring the presence of air and its many properties through trial-and-error investigations. From discovering how air can be felt\, but not seen\, to how it takes up space and moves objects\, these sessions will stimulate imagination\, promote memory development and improve motor skills all while learning why air is so essential to our lives.\n\n\n\nWe Wednesdays occur on Wednesday mornings (excluding holidays) starting at 10:30 a.m. and last approximately 45-minutes. Science themes will vary each month.\n\n\n\nOnline registration for the monthly pass closes on Monday\, December 2 at 5:00 p.m. Day of walk-up registration is available.
X-ALT-DESC;FMTTYPE=text/html:Join us for a new program on Wednesday mornings designed for our littlest learners (children ages four and younger) and their caregivers.<br />\n<br />\nHelp enhance your child&rsquo\;s development with hands-on science activities that engage their senses and promote science learning through play in a safe and educational environment. Little ones will have the opportunity to explore the world around them while also developing their cognitive\, motor\, and social skills for a healthy brain and body.<br />\n<br />\nDecember: Astonishing Air<br />\nDecember 4\, 11\, 18 (Wednesdays at 10:30 a.m.)<br />\n<br />\nLittle ones will be swishing and whooshing while exploring the presence of air and its many properties through trial-and-error investigations. From discovering how air can be felt\, but not seen\, to how it takes up space and moves objects\, these sessions will stimulate imagination\, promote memory development and improve motor skills all while learning why air is so essential to our lives.<br />\n<br />\nWe Wednesdays occur on Wednesday mornings (excluding holidays) starting at 10:30 a.m. and last approximately 45-minutes. Science themes will vary each month.<br />\n<br />\nOnline registration for the monthly pass closes on Monday\, December 2 at 5:00 p.m. Day of walk-up registration is available.<br />\n<br />\n&nbsp\;
LOCATION:Phillip and Patricia Frost Museum of Science 1101 Biscayne Blvd Miami\, FL 33132
UID:e.1580.20380
SEQUENCE:3
DTSTAMP:20260425T101742Z
URL:https://business.mdglcc.com/events/details/we-wednesdays-astonishing-air-12-18-2019-20380
END:VEVENT

END:VCALENDAR
