BEGIN:VCALENDAR
VERSION:2.0
PRODID:-//ChamberMaster//Event Calendar 2.0//EN
METHOD:PUBLISH
X-PUBLISHED-TTL:P3D
REFRESH-INTERVAL:P3D
CALSCALE:GREGORIAN
BEGIN:VEVENT
DTSTART:20191226T140000Z
DTEND:20191226T203000Z
X-MICROSOFT-CDO-ALLDAYEVENT:FALSE
SUMMARY:Winter Art Camp at The Bass
DESCRIPTION:Fantastic Creatures.\nGet wild with your imagination! Learn about all sorts of critters and creatures then create your very own 3D creature.\n\n\n\nSpace is limited. Pre-registration is required. Campers must bring their own lunch and snacks.
X-ALT-DESC;FMTTYPE=text/html:Fantastic Creatures.\n<p style="margin-left:0px\; margin-right:0px\; text-align:left">Get wild with your imagination! Learn about all sorts of critters and creatures then create your very own 3D creature.</p>\n\n<p style="margin-left:0px\; margin-right:0px\; text-align:left"><br />\n<span style="background-color:transparent\; color:rgb(0\, 0\, 0)">Space is limited. Pre-registration is required. Campers must bring their own lunch and snacks.</span></p>\n
LOCATION:The Bass 2100 Collins Ave Miami Beach\, FL 33139
UID:e.1580.20405
SEQUENCE:3
DTSTAMP:20260425T120103Z
URL:https://business.mdglcc.com/events/details/winter-art-camp-at-the-bass-12-26-2019-20405
END:VEVENT

END:VCALENDAR
