BEGIN:VCALENDAR
VERSION:2.0
PRODID:-//ChamberMaster//Event Calendar 2.0//EN
METHOD:PUBLISH
X-PUBLISHED-TTL:P3D
REFRESH-INTERVAL:P3D
CALSCALE:GREGORIAN
BEGIN:VEVENT
DTSTART:20191227T140000Z
DTEND:20191227T203000Z
X-MICROSOFT-CDO-ALLDAYEVENT:FALSE
SUMMARY:Winter Camp – DIY Science
DESCRIPTION:Calling all creators\, explorers\, artists and inventors! Spend winter break becoming the next maker by tinkering with gadgets and inventions of your own creation\, including sewing circuits\, paper bots and more.\n\n \n\nGrades: Pre-K thru 5th (children must be at least 4 years of age and able to handle all aspects of using the bathroom alone in order to participate)\n\nTime: 9:00 a.m. to 3:30 p.m.\n\nBefore Care: 7:30 a.m.   8:30 a.m.\n\nAfter Care: 4:00 p.m.   6:00 p.m.\n\nTwo snacks included each day\n\nOne t-shirt included\, campers must wear the camp t-shirt every day. Additional t-shirts may be purchased for $10 each.\n\nLunch may be purchased ($8.00 per day plus 8% sales tax)\n\n \n\nDecember 27 \n\nDecember 30 \n\nDecember 31 \n\nJanuary 2 \n\nJanuary 3\n\nOnline registration closes on Monday\, December 23 at 5:00 p.m.
X-ALT-DESC;FMTTYPE=text/html:<div>Calling all creators\, explorers\, artists and inventors! Spend winter break becoming the next maker by tinkering with gadgets and inventions of your own creation\, including sewing circuits\, paper bots and more.</div>\n\n<div>&nbsp\;</div>\n\n<div>Grades: Pre-K thru 5th (children must be at least 4 years of age and able to handle all aspects of using the bathroom alone in order to participate)</div>\n\n<div>Time: <strong>9:00 a.m. to 3:30 p.m.</strong></div>\n\n<div>Before Care: <strong>7:30 a.m. &ndash\; 8:30 a.m.</strong></div>\n\n<div>After Care: <strong>4:00 p.m. &ndash\; 6:00 p.m.</strong></div>\n\n<div>Two snacks included each day</div>\n\n<div>One t-shirt included\, campers must wear the camp t-shirt every day. Additional t-shirts may be purchased for $10 each.</div>\n\n<div>Lunch may be purchased ($8.00 per day plus 8% sales tax)</div>\n\n<div>&nbsp\;</div>\n\n<div><u>December 27 </u></div>\n\n<div><u>December 30 </u></div>\n\n<div><u>December 31 </u></div>\n\n<div><u>January 2 </u></div>\n\n<div><u>January 3</u></div>\n\n<div>Online registration closes on Monday\, December 23 at 5:00 p.m.</div>\n
LOCATION:Phillip and Patricia Frost Museum of Science 1101 Biscayne Blvd Miami\, FL 33132
UID:e.1580.20383
SEQUENCE:3
DTSTAMP:20260425T115427Z
URL:https://business.mdglcc.com/events/details/winter-camp-diy-science-20383
END:VEVENT

END:VCALENDAR
